BEGIN:VCALENDAR
VERSION:2.0
PRODID:-//LeagueOfExtraordinarywomen - ECPv6.0.13.1//NONSGML v1.0//EN
CALSCALE:GREGORIAN
METHOD:PUBLISH
X-WR-CALNAME:LeagueOfExtraordinarywomen
X-ORIGINAL-URL:https://leagueofextraordinarywomenafrica.com
X-WR-CALDESC:Events for LeagueOfExtraordinarywomen
REFRESH-INTERVAL;VALUE=DURATION:PT1H
X-Robots-Tag:noindex
X-PUBLISHED-TTL:PT1H
BEGIN:VTIMEZONE
TZID:UTC
BEGIN:STANDARD
TZOFFSETFROM:+0000
TZOFFSETTO:+0000
TZNAME:UTC
DTSTART:20210101T000000
END:STANDARD
END:VTIMEZONE
BEGIN:VEVENT
DTSTART;TZID=UTC:20211129T013000
DTEND;TZID=UTC:20211129T030000
DTSTAMP:20260425T123229
CREATED:20211116T135758Z
LAST-MODIFIED:20211116T135758Z
UID:3580-1638149400-1638154800@leagueofextraordinarywomenafrica.com
SUMMARY:Building a next generation web application
DESCRIPTION:Aliquam erat volutpat. Duis ac turpis. Integer rutrum ante eu lacus. Vestibulum libero nisl\, porta vel\, scelerisque eget\, malesuada at\, neque. Vivamus eget nibh. Etiam cursus leo vel metus. Nulla facilisi. Aenean nec eros. Vestibulum ante ipsum primis in faucibus orci luctus et ultrices posuere cubilia Curae. Suspendisse sollicitudin velit sed leo.
URL:https://leagueofextraordinarywomenafrica.com/event/building-a-next-generation-web-application/
LOCATION:Belmont Shore\, Long Beach\, CA\, 90803\, United States
CATEGORIES:Live Events
ATTACH;FMTTYPE=image/jpeg:https://leagueofextraordinarywomenafrica.com/wp-content/uploads/2019/07/990x555_img4.jpg
ORGANIZER;CN="Tom%20Haverford":MAILTO:tom@example.com
END:VEVENT
END:VCALENDAR